BEGIN:VCALENDAR
VERSION:2.0
PRODID:-//eventon.com NONSGML v1.0//EN
CALSCALE:GREGORIAN
METHOD:PUBLISH
BEGIN:VEVENT
UID:69e9b06e08b4f
DTSTAMP:20260423T053854Z
DTSTART:20191201T113000Z
DTEND:20191201T123000Z
LOCATION:
SUMMARY:Gryllus Vilmos Mikulás-váró koncertje
DESCRIPTION:„Nótás Mikulás\,  flótás\,  pikulás\,  jön a sok jóva
 l\,  hegedű\,  szóval. Csellón muzsikál\,  csizmám tele már\,  mosoly
 og\,  hallgat\,  haza úgy ballag.” A belépés egy éves kor alatt ingye
 nes.\nhttps://momkult.hu/events/gryllus-vilmos-mikulas-varo-koncertje-20191
 201/
URL:https://momkult.hu/events/gryllus-vilmos-mikulas-varo-koncertje-20191201/
END:VEVENT
END:VCALENDAR