BEGIN:VCALENDAR
VERSION:2.0
PRODID:-//eventon.com NONSGML v1.0//EN
CALSCALE:GREGORIAN
METHOD:PUBLISH
BEGIN:VEVENT
UID:69e9601f99879
DTSTAMP:20260422T235615Z
DTSTART:20200121T190000Z
DTEND:20200121T210000Z
LOCATION:
SUMMARY:Magyar Kultúra Napja | Sebestyén Márta\,  Gryllus Dániel\,  Gryllus Vilmos
DESCRIPTION:A Kaláka alapító tagjai\,  Gryllus Dániel és Gryllus Vilmo
 s néhány éve Sebestyén Mártával elkészítették a Tizenöt zsoltár 
 című lemezt\,  melyből később film is készült. A Zsoltárok könyve 
 az Ószövetség 150 részből álló imádság- és énekgyűjteménye. Az
  évezredeket túlélő énekeket dolgozta fel a testvérpáros\,  akik kor
 ábban kiadták Pál apostol és A[..]\nhttps://momkult.hu/events/magyar-ku
 ltura-napja-sebestyen-marta-gryllus-daniel-gryllus-vilmos/
URL:https://momkult.hu/events/magyar-kultura-napja-sebestyen-marta-gryllus-daniel-gryllus-vilmos/
END:VEVENT
END:VCALENDAR