BEGIN:VCALENDAR
VERSION:2.0
PRODID:-//eventon.com NONSGML v1.0//EN
CALSCALE:GREGORIAN
METHOD:PUBLISH
BEGIN:VEVENT
UID:69e9b398a16c6
DTSTAMP:20260423T055224Z
DTSTART:20191121T190000Z
DTEND:20191121T210000Z
LOCATION:
SUMMARY:Killer Queen | Queen Show from London
DESCRIPTION:“A koncertek annyira valósághűek\,  amennyire csak lehetne
 k. Egy valódi Bohém rapszódia. Egy pop legenda visszatért közénk!” 
 – /The People/ A Killer Queen együttes 1993 júniusában alakult. Elősz
 ör a Londoni Egyetemen léptek fel\,  ott\,  ahol a Queen 21 évvel előtt
 ük. 1999-ben a Leicester téri díjátadón átvették a legjobb emlékzen
 ekarért járó díjat.[..]\nhttps://momkult.hu/events/killer-queen-queen-s
 how-from-london-4/
URL:https://momkult.hu/events/killer-queen-queen-show-from-london-4/
END:VEVENT
END:VCALENDAR