BEGIN:VCALENDAR
VERSION:2.0
PRODID:-//eventon.com NONSGML v1.0//EN
CALSCALE:GREGORIAN
METHOD:PUBLISH
BEGIN:VEVENT
UID:69e9f062d9ad9
DTSTAMP:20260423T101146Z
DTSTART:20191016T170000Z
DTEND:20191016T180000Z
LOCATION:
SUMMARY:Elátkozott köztársaság: 1918 öröksége
DESCRIPTION:Babus Antal Hatos Pál Papp István Salamon Konrád Tevelÿ Ara
 tó György\nhttps://momkult.hu/events/elatkozott-koztarsasag-1918-oroksege
 /
URL:https://momkult.hu/events/elatkozott-koztarsasag-1918-oroksege/
END:VEVENT
END:VCALENDAR