BEGIN:VCALENDAR
VERSION:2.0
PRODID:-//eventon.com NONSGML v1.0//EN
CALSCALE:GREGORIAN
METHOD:PUBLISH
BEGIN:VEVENT
UID:69e8db15aa3bd
DTSTAMP:20260422T142837Z
DTSTART:20200827T190000Z
DTEND:20200827T210000Z
LOCATION:
SUMMARY:Az illúzió mesterei - 2020
DESCRIPTION:Az előadás új időpontban\,  2020. 08. 27-én kerül megrend
 ezésre. (eredeti időpont: 2020. 03. 26. 19:00\,  pótelőadás: 2020. 08.
 27. 20:00) New York\,  Peking\,  Dubai\,  Las Vegas\,  Monte Carlo és Toki
 ó után újra Budapesten Az illúzió mesterei! Világhírű bűvészek é
 s az ország legjobb illuzionistái együtt\,  egy vadonatúj műsorban. Az
  előző években rendezett\, [..]\nhttps://momkult.hu/events/az-illuzio-me
 sterei-2020-7/
URL:https://momkult.hu/events/az-illuzio-mesterei-2020-7/
END:VEVENT
END:VCALENDAR