BEGIN:VCALENDAR
VERSION:2.0
PRODID:-//eventon.com NONSGML v1.0//EN
CALSCALE:GREGORIAN
METHOD:PUBLISH
BEGIN:VEVENT
UID:69e8dab82d0c1
DTSTAMP:20260422T142704Z
DTSTART:20200826T180000Z
DTEND:20200826T200000Z
LOCATION:
SUMMARY:Az illúzió mesterei - 2020
DESCRIPTION:Az előadás új időpontban\,  2020. 08. 26-án kerül megrend
 ezésre. (eredeti időpont: 2020. 03. 25.\,  pótelőadás: 2020. 08.26.) N
 ew York\,  Peking\,  Dubai\,  Las Vegas\,  Monte Carlo és Tokió után új
 ra Budapesten Az illúzió mesterei! Világhírű bűvészek és az ország
  legjobb illuzionistái együtt\,  egy vadonatúj műsorban. Az előző év
 ekben rendezett\,  nagy sikerű[..]\nhttps://momkult.hu/events/az-illuzio-m
 esterei-2020-6/
URL:https://momkult.hu/events/az-illuzio-mesterei-2020-6/
END:VEVENT
END:VCALENDAR