BEGIN:VCALENDAR
VERSION:2.0
PRODID:-//eventon.com NONSGML v1.0//EN
CALSCALE:GREGORIAN
METHOD:PUBLISH
BEGIN:VEVENT
UID:69e4f23b4393c
DTSTAMP:20260419T151819Z
DTSTART:20200103T190000Z
DTEND:20200103T210000Z
LOCATION:
SUMMARY:Chameleon Jazz Band | Happy 2020
DESCRIPTION:A Chameleon Jazz Band hagyományos újévi koncertje vadonatúj
  dalokkal\,  régi kedvencekkel és meglepetésekkel. Bálint Rezső | hars
 ona\,  ének Birinyi Márk Ádám | zongora Bartók Vince | basszusgitár T
 elek Attila | ütőhangszerek Művészeti vezető: Bálint Rezső\nhttps://
 momkult.hu/events/chameleon-jazz-band-happy-2020/
URL:https://momkult.hu/events/chameleon-jazz-band-happy-2020/
END:VEVENT
END:VCALENDAR