BEGIN:VCALENDAR
VERSION:2.0
PRODID:-//eventon.com NONSGML v1.0//EN
CALSCALE:GREGORIAN
METHOD:PUBLISH
BEGIN:VEVENT
UID:69e9c3bd78ef5
DTSTAMP:20260423T070117Z
DTSTART:20191109T180000Z
DTEND:20191109T190000Z
LOCATION:
SUMMARY:Radnóti- és Ady-versek
DESCRIPTION:Versek életről-halálról Ady 100  (1919. január 27.) – R
 adnóti 75 (1944. november 9.) Radnóti- és Ady-versek Kuncz László elő
 adásában. Kuncz László vers- és énekmondó műsoraMinden jegy elkelt\
 nhttps://momkult.hu/events/radnoti-es-ady-versek/
URL:https://momkult.hu/events/radnoti-es-ady-versek/
END:VEVENT
END:VCALENDAR