BEGIN:VCALENDAR
VERSION:2.0
PRODID:-//eventon.com NONSGML v1.0//EN
CALSCALE:GREGORIAN
METHOD:PUBLISH
BEGIN:VEVENT
UID:69e9c58dcceb9
DTSTAMP:20260423T070901Z
DTSTART:20191117T103000Z
DTEND:20191117T111500Z
LOCATION:
SUMMARY:Kacorkirály és a tökfilkó | Domi bábszínháza
DESCRIPTION:Klasszikus bábok\,  klasszikus mesék.\nhttps://momkult.hu/eve
 nts/kacorkiraly-es-a-tokfilko-domi-babszinhaza/
URL:https://momkult.hu/events/kacorkiraly-es-a-tokfilko-domi-babszinhaza/
END:VEVENT
END:VCALENDAR