BEGIN:VCALENDAR
VERSION:2.0
PRODID:-//eventon.com NONSGML v1.0//EN
CALSCALE:GREGORIAN
METHOD:PUBLISH
BEGIN:VEVENT
UID:69e9deb700749
DTSTAMP:20260423T085623Z
DTSTART:20191103T103000Z
DTEND:20191103T111500Z
LOCATION:
SUMMARY:A kíváncsi kiselefánt | Domi bábszínháza
DESCRIPTION:Klasszikus bábok\,  klasszikus mesék.\nhttps://momkult.hu/eve
 nts/a-kivancsi-kiselefant-domi-babszinhaza/
URL:https://momkult.hu/events/a-kivancsi-kiselefant-domi-babszinhaza/
END:VEVENT
END:VCALENDAR