BEGIN:VCALENDAR
VERSION:2.0
PRODID:-//eventon.com NONSGML v1.0//EN
CALSCALE:GREGORIAN
METHOD:PUBLISH
BEGIN:VEVENT
UID:69e970105ba19
DTSTAMP:20260423T010416Z
DTSTART:20191230T200000Z
DTEND:20191230T213000Z
LOCATION:
SUMMARY:Hot Jazz Band | ElÅ‘szilveszteri koncert
DESCRIPTION:Az 1920-as Ã©s â€™40-es Ã©vek jazzmuzsikÃ¡jÃ¡nak kedvelÅ‘i egyÃ
 ¼tt bÃºcsÃºztathatjÃ¡k az Ã³Ã©vet. A Hot Jazz Band elÅ‘szilveszteri koncert
 jÃ©n visszatekint az esemÃ©nyekben gazdag Ã©vre. RepertoÃ¡rjukban szerepel 
 egy vÃ¡logatÃ¡s a zenekar klarinÃ©tosÃ¡nak\,  Fodor LÃ¡szlÃ³nak szÃ³lÃ³konc
 ertjÃ©bÅ‘l\,  a gyerekeknek szÃ³lÃ³ koncertanyagbÃ³l\,  rÃ¡adÃ¡sul kÃ©t ven
 dÃ©ggel is kiegÃ©szÃ¼lnek: ApÃ¡ti JÃ¡nos zongoramÅ±vÃ©sszel Ã©s BÃ­rÃ³ Eszt
 er Ã©nekesnÅ‘vel. Minden jegy[..]\nhttps://momkult.hu/events/hot-jazz-band-
 eloszilveszteri-koncert/
URL:https://momkult.hu/events/hot-jazz-band-eloszilveszteri-koncert/
END:VEVENT
END:VCALENDAR