BEGIN:VCALENDAR
VERSION:2.0
PRODID:-//eventon.com NONSGML v1.0//EN
CALSCALE:GREGORIAN
METHOD:PUBLISH
BEGIN:VEVENT
UID:69e9747ecb095
DTSTAMP:20260423T012310Z
DTSTART:20200128T180000Z
DTEND:20200128T193000Z
LOCATION:
SUMMARY:HetvenkedÅ‘ | VÃ¡mos MiklÃ³s Ã¶nÃ¡llÃ³ estje
DESCRIPTION:&#8222;JanuÃ¡r 29-Ã©n szÃ¼lettem\,  nekem is hihetetlen â€“ het
 ven Ã©ve. Ez alkalombÃ³l mesÃ©lek az Ã¶tsoros versekrÅ‘l (limerick)\,  a ho
 sszÃº Ã©letrÅ‘l\,  a rÃ¶vid Ã©szrÅ‘l\,  a kÃ¶zepes szerencsÃ©rÅ‘l\,  az egÃ
 ©szsÃ©ges halÃ¡lrÃ³l Ã©s a varÃ¡zslatos hÃ©tkÃ¶znapokrÃ³l.&#8221; VÃ¡mos Mi
 klÃ³s Minden jegy elkelt\nhttps://momkult.hu/events/hetvenkedo-vamos-miklos
 -onallo-estje/
URL:https://momkult.hu/events/hetvenkedo-vamos-miklos-onallo-estje/
END:VEVENT
END:VCALENDAR