BEGIN:VCALENDAR
VERSION:2.0
PRODID:-//eventon.com NONSGML v1.0//EN
CALSCALE:GREGORIAN
METHOD:PUBLISH
BEGIN:VEVENT
UID:69e9efb1e8abc
DTSTAMP:20260423T100849Z
DTSTART:20191020T093000Z
DTEND:20191020T101500Z
LOCATION:
SUMMARY:Az oroszlán és a kisegér | Domi bábszínháza
DESCRIPTION:Klasszikus bábok\,  klasszikus mesék.\nhttps://momkult.hu/eve
 nts/az-oroszlan-es-a-kiseger-domi-babszinhaza-2/
URL:https://momkult.hu/events/az-oroszlan-es-a-kiseger-domi-babszinhaza-2/
END:VEVENT
END:VCALENDAR