BEGIN:VCALENDAR
VERSION:2.0
PRODID:-//eventon.com NONSGML v1.0//EN
CALSCALE:GREGORIAN
METHOD:PUBLISH
BEGIN:VEVENT
UID:69e4f9223a7da
DTSTAMP:20260419T154746Z
DTSTART:20191119T180000Z
DTEND:20191119T193000Z
LOCATION:
SUMMARY:Párhuzamos műfajok | A költő és a festő. Az irodalom képei
DESCRIPTION:Párhuzamos műfajok 2019-2020 A költő és a festő. Az iroda
 lom képei Az előadások során a magyar és egyetemes művészet nagy alk
 otásai és műcsoportjai kerülnek középpontba a szövegek és a hozzáj
 uk készült illusztrációk alapján. A Bibliától a Grimm-mesékig\,  a 
 Fausttól Az ember tragédiájáig számos mű illusztrációval együtt é
 l az emberek emlékezetében.[..]\nhttps://momkult.hu/events/parhuzamos-muf
 ajok-a-kolto-es-a-festo-az-irodalom-kepei-2/
URL:https://momkult.hu/events/parhuzamos-mufajok-a-kolto-es-a-festo-az-irodalom-kepei-2/
END:VEVENT
END:VCALENDAR