BEGIN:VCALENDAR
VERSION:2.0
PRODID:-//eventon.com NONSGML v1.0//EN
CALSCALE:GREGORIAN
METHOD:PUBLISH
BEGIN:VEVENT
UID:69e94bb2cf21d
DTSTAMP:20260422T222906Z
DTSTART:20200215T100000Z
DTEND:20200215T105000Z
LOCATION:
SUMMARY:Codex rÃ©gizene egyÃ¼ttes | Bon Bon MatinÃ©
DESCRIPTION:Az egyÃ¼ttes ErdÃ©lybÅ‘l Ã©rkezik\,  hogy bemutassa azt a kÃ¼lÃ
 ¶nleges zenei vilÃ¡got\,  ami ErdÃ©lyt Ã©vszÃ¡zadokkal ezelÅ‘tt jellemezte.
  RepertoÃ¡rjukban megtalÃ¡lhatÃ³k nÃ©pi-\,  tÃ¶rÃ¶k-\,  mÅ±- Ã©s egyhÃ¡zzen
 ei vonÃ¡sok Ã©s szÃ¡mos kÃ¼lÃ¶nleges hangszer. Az elÅ‘adÃ¡s sorÃ¡n LukÃ¡csh
 Ã¡zi GyÅ‘zÅ‘ mesÃ©l a rÃ©gi idÅ‘k zenÃ©jÃ©rÅ‘l Ã©s arrÃ³l\,  hogyan zajlott
 ak a fejedelmi udvarokban a vigassÃ¡gok\,  milyen zenÃ©k Ã©s[..]\nhttps://m
 omkult.hu/events/codex-regizene-egyuttes-bon-bon-matine/
URL:https://momkult.hu/events/codex-regizene-egyuttes-bon-bon-matine/
END:VEVENT
END:VCALENDAR