BEGIN:VCALENDAR
VERSION:2.0
PRODID:-//eventon.com NONSGML v1.0//EN
CALSCALE:GREGORIAN
METHOD:PUBLISH
BEGIN:VEVENT
UID:69e9b2157746a
DTSTAMP:20260423T054557Z
DTSTART:20191124T103000Z
DTEND:20191124T115000Z
LOCATION:
SUMMARY:Masha és a Medve | Karácsonyi Kaland
DESCRIPTION:„Masha nyughatatlan kislány\,  aki mindig tele van energiáv
 al\,  s nem bír a fenekén megülni. Így aztán nem csoda\,  hogy barátj
 ával\,  a lustácska medvével folyton elképesztő bonyodalomba keveredik
 . Ezúttal egy fantasztikus karácsonyi kalandos nyomozásban találják ma
 gukat Rózival\,  a malaccal\,  nyuszival\,  a farkastestvérekkel és egy 
 pingvinnel. A történetben szerepel még Kétkedőssy professzor\, [..]\nh
 ttps://momkult.hu/events/masha-es-a-medve-karacsonyi-kaland/
URL:https://momkult.hu/events/masha-es-a-medve-karacsonyi-kaland/
END:VEVENT
END:VCALENDAR