BEGIN:VCALENDAR
VERSION:2.0
PRODID:-//eventon.com NONSGML v1.0//EN
CALSCALE:GREGORIAN
METHOD:PUBLISH
BEGIN:VEVENT
UID:69e9c6a66e1d4
DTSTAMP:20260423T071342Z
DTSTART:20191110T170000Z
DTEND:20191110T183000Z
LOCATION:
SUMMARY:Debussy-est | A Solti GyÃ¶rgy Zeneiskola nÃ¶vendÃ©kei Ã©s mÅ±vÃ©sztanÃ¡rai elÅ‘adÃ¡sÃ¡ban
DESCRIPTION:A koncerten Claude Debussy\,  a zenei impresszionizmus egyik le
 gnagyobb alakjÃ¡nak szÃ³lÃ³- Ã©s kamaramÅ±vei szÃ³lalnak meg. A mÅ±vek kÃ¶z
 Ã¶tt a szerzÅ‘rÅ‘l Ã©s a korabeli mÅ±vÃ©szeti tÃ¶rekvÃ©sekrÅ‘l Bolyky ZoltÃ
 ¡nÂ tart vetÃ­tÃ©ssel egybekÃ¶tÃ¶tt ismertetÃ©st. KÃ¶zremÅ±kÃ¶dnek a zeneis
 kola nÃ¶vendÃ©kei\,  valamint Gudor Judit\,  klarinÃ©tmÅ±vÃ©sz\,  NÃ©meth V
 iola\,  zongoramÅ±vÃ©sz Ã©s TarjÃ¡ninÃ© Csoma Julianna Cseperke\,  fuvolamÅ
 ±vÃ©sz. Gudor Judit â€“[..]\nhttps://momkult.hu/events/debussy-est-a-solti-
 gyorgy-zeneiskola-novendekei-es-muvesztanarai-eloadasaban/
URL:https://momkult.hu/events/debussy-est-a-solti-gyorgy-zeneiskola-novendekei-es-muvesztanarai-eloadasaban/
END:VEVENT
END:VCALENDAR