BEGIN:VCALENDAR
VERSION:2.0
PRODID:-//eventon.com NONSGML v1.0//EN
CALSCALE:GREGORIAN
METHOD:PUBLISH
BEGIN:VEVENT
UID:69e9c39f0b2fd
DTSTAMP:20260423T070047Z
DTSTART:20191115T190000Z
DTEND:20191115T203000Z
LOCATION:
SUMMARY:Dr. Csókay András előadása: A hit hatalma a tudományban
DESCRIPTION:Dr. Csókay András eredetileg mérnöknek készült\,  végül
  idegsebész lett. Nevéhez több új idegsebészeti eljárás is fűződik
 . A gyógyítás mellett\,  reggelente\,  gyakorlás céljából halottakat
  boncol\,  szabadsága felét pedig arra áldozza\,  hogy Nigéria legszeg
 ényebbjeit gyógyítsa. Emellett Dr. Csókay András mélyen hívő ember\
 ,  akinek munkáját istenhite hatja át. A világon még soha senki nem[..
 ]\nhttps://momkult.hu/events/dr-csokay-andras-eloadasa-a-hit-hatalma-a-tudo
 manyban/
URL:https://momkult.hu/events/dr-csokay-andras-eloadasa-a-hit-hatalma-a-tudomanyban/
END:VEVENT
END:VCALENDAR