BEGIN:VCALENDAR
VERSION:2.0
PRODID:-//eventon.com NONSGML v1.0//EN
CALSCALE:GREGORIAN
METHOD:PUBLISH
BEGIN:VEVENT
UID:69e9c63950499
DTSTAMP:20260423T071153Z
DTSTART:20191115T190000Z
DTEND:20191115T211500Z
LOCATION:
SUMMARY:Charlie koncert
DESCRIPTION:Charlie tÃ¶bbszÃ¶rÃ¶s EMeRTon-dÃ­jas mÅ±vÃ©sz\,  akinek munkÃ¡s
 sÃ¡gÃ¡t tÃ¶bbek kÃ¶zÃ¶tt Arany ZsirÃ¡f-dÃ­jjal\,  Liszt Ferenc-dÃ­jjal\,  i
 lletve 1993-ban a Magyar KÃ¶ztÃ¡rsasÃ¡gi Ã‰rdemrend kiskeresztjÃ©vel ismert
 Ã©k el. Minden stÃ­lusban alkot: ezÃºttal a jazz\,  a funky Ã©s a soul vilÃ
 ¡gÃ¡ba kalauzolja kÃ¶zÃ¶nsÃ©gÃ©t. Charlie zenÃ©sz\,  trombitÃ¡s: a rock\,  
 a jazz\,  a blues\,  a soul Ã©s a funky jellegzetesen[..]\nhttps://momkult.
 hu/events/charlie-koncert-6/
URL:https://momkult.hu/events/charlie-koncert-6/
END:VEVENT
END:VCALENDAR