BEGIN:VCALENDAR
VERSION:2.0
PRODID:-//eventon.com NONSGML v1.0//EN
CALSCALE:GREGORIAN
METHOD:PUBLISH
BEGIN:VEVENT
UID:69e99e6843b22
DTSTAMP:20260423T042200Z
DTSTART:20191208T110000Z
DTEND:20191208T120000Z
LOCATION:
SUMMARY:Életmesék | Farkasházi Réka és a Tintanyúl
DESCRIPTION:„Család\,  szeretet\,  barátság\,  játék\,  vidámság\,
   meghittség” – a kétszeres Fonogram-díjas Farkasházi Réka és a T
 intanyúl zenekar legújabb dalainak legfontosabb gondolatai ezek. Az Élet
 mesék című album az azonos című mesekönyv mellékleteként jelenik me
 g idén októberben. A kiadvány különlegessége\,  hogy a mesék szerző
 je a zenekar névadója\,  a háromgyermekes színésznő-énekesnő: Farka
 sházi Réka. A[..]\nhttps://momkult.hu/events/eletmesek-farkashazi-reka-es
 -a-tintanyul/
URL:https://momkult.hu/events/eletmesek-farkashazi-reka-es-a-tintanyul/
END:VEVENT
END:VCALENDAR