BEGIN:VCALENDAR
VERSION:2.0
PRODID:-//eventon.com NONSGML v1.0//EN
CALSCALE:GREGORIAN
METHOD:PUBLISH
BEGIN:VEVENT
UID:69ea046170df0
DTSTAMP:20260423T113705Z
DTSTART:20191005T183000Z
DTEND:20191005T220000Z
LOCATION:
SUMMARY:Kraak & Smaak Live Band
DESCRIPTION:Jazzy Fesztivál – Stílusos és szenvedélyes koncertek 2019
 -ben is! A 90.9 Jazzy Rádió és a Paloznaki Jazzpiknik közös szerve
 zésében: 9. Jazzy Fesztivál októberben a MOMkult-ban. A fesztivál id
 én is a jazz hazai és külföldi nagyjait hozza el. Október 5-én (szomb
 at) az acid jazzt a house stílussal ötvöző Kraak &amp; Smaak Live Band
  és a Kéknyúlperdíti táncra a közönséget. A[..]\nhttps://momkult.
 hu/events/kraak-smaak-live-band-jazzy-fesztival-2019/
URL:https://momkult.hu/events/kraak-smaak-live-band-jazzy-fesztival-2019/
END:VEVENT
END:VCALENDAR