BEGIN:VCALENDAR
VERSION:2.0
PRODID:-//eventon.com NONSGML v1.0//EN
CALSCALE:GREGORIAN
METHOD:PUBLISH
BEGIN:VEVENT
UID:69ea0414a8519
DTSTAMP:20260423T113548Z
DTSTART:20191004T183000Z
DTEND:20191004T220000Z
LOCATION:
SUMMARY:Club Des Belugas feat. Anna Luca | Jazzy Fesztivál 2019
DESCRIPTION:Jazzy Fesztivál – Stílusos és szenvedélyes koncertek 2019
 -ben is! A 90.9 Jazzy Rádió és a Paloznaki Jazzpiknik közös szervez
 ésében: 9. Jazzy Fesztivál októberben a MOMkult-ban. A fesztivál id
 n is a jazz hazai és külföldi nagyjait hozza el. Október 4-én (pénte
 k) jazz\,  swing és latin ritmusok a Club Des Belugas feat. Anna Luca el
 őadásában. Előttük fellép a “swing hercege”\, [..]\nhttps://momk
 ult.hu/events/club-des-belugas-feat-anna-luca-jazzy-fesztival-2019/
URL:https://momkult.hu/events/club-des-belugas-feat-anna-luca-jazzy-fesztival-2019/
END:VEVENT
END:VCALENDAR