BEGIN:VCALENDAR
VERSION:2.0
PRODID:-//eventon.com NONSGML v1.0//EN
CALSCALE:GREGORIAN
METHOD:PUBLISH
BEGIN:VEVENT
UID:69e98642e2175
DTSTAMP:20260423T023858Z
DTSTART:20191227T200000Z
DTEND:20191227T220000Z
LOCATION:
SUMMARY:TRIÁSZ
DESCRIPTION:A TRIÁSZ (Sipos Péter\,  Jankai Béla\,  Kálmán György) k
 arácsonyi koncertje a zenekar barátaival és zenészkollégáival\,  vala
 mint számos meglepetéssel. Karácsonyi koncertSipos Péter Jankai Béla K
 álmán György Minden jegy elkelt\nhttps://momkult.hu/events/triasz-2/
URL:https://momkult.hu/events/triasz-2/
END:VEVENT
END:VCALENDAR