BEGIN:VCALENDAR
VERSION:2.0
PRODID:-//eventon.com NONSGML v1.0//EN
CALSCALE:GREGORIAN
METHOD:PUBLISH
BEGIN:VEVENT
UID:69e960af0d397
DTSTAMP:20260422T235839Z
DTSTART:20200119T190000Z
DTEND:20200119T210000Z
LOCATION:
SUMMARY:Ã‰g az erdÅ‘ | KollÃ¡r-Klemencz Kamarazenekar
DESCRIPTION:Decemberben jelenik meg Ã‰g az erdÅ‘ cÃ­mmel KollÃ¡r-Klemencz L
 Ã¡szlÃ³ KamarazenekarÃ¡nak Ãºj albuma â€“ a dalszerzÅ‘-Ã­rÃ³-Ã©nekes 2008-b
 an megkezdett elsÅ‘ szÃ³lÃ³albumÃ¡nak folytatÃ¡sakÃ©nt. SzemÃ©lyes hangvÃ©t
 elÅ±\,  mÃ©ly Ã©rzelmekkel telÃ­tett\,  balladisztikus dalok a termÃ©szetbÅ
 ‘l\,  az erdÅ‘ kÃ¶zepÃ©n Ã©lÅ‘ alkotÃ³tÃ³l Ã©s vonÃ³s zenekarÃ¡tÃ³l. Az Ãºj
  lemez dalai Ã¶svÃ©nyeket taposnak ki a mindennapjainkon\,  amelyeken elind
 ulva kÃ¶zelebb visznek[..]\nhttps://momkult.hu/events/eg-az-erdo-kollar-kle
 mencz-kamarazenekar/
URL:https://momkult.hu/events/eg-az-erdo-kollar-klemencz-kamarazenekar/
END:VEVENT
END:VCALENDAR