BEGIN:VCALENDAR
VERSION:2.0
PRODID:-//eventon.com NONSGML v1.0//EN
CALSCALE:GREGORIAN
METHOD:PUBLISH
BEGIN:VEVENT
UID:69e9b37c8968f
DTSTAMP:20260423T055156Z
DTSTART:20191123T100000Z
DTEND:20191123T110000Z
LOCATION:
SUMMARY:A mi méheink | Aki a virágot szereti...
DESCRIPTION:Ismeretterjesztő előadás és játékos foglalkozás Előadó
 : Dr. Vásárhelyi Tamás életműdíjas múzeumpedagógus\,  népszerű el
 őadó és ismeretterjesztő szerző\,  a Magyar Természettudományi Múze
 um társult kutatója. Közreműködik: Vásárhelyi Boglárka\,  múzeumpe
 dagógus Az emberiség által ismert természet és élet elképzelhetetlen
  virágok nélkül. Az emberek lakásukat\,  kertjüket díszítik vele\,  
 virágot ajándékoznak névnapra\,  születésnapra\,  virágos mintákkal
  díszítik környezetünk.[..]\nhttps://momkult.hu/events/a-mi-meheink-aki
 -a-viragot-szereti/
URL:https://momkult.hu/events/a-mi-meheink-aki-a-viragot-szereti/
END:VEVENT
END:VCALENDAR