BEGIN:VCALENDAR
VERSION:2.0
PRODID:-//eventon.com NONSGML v1.0//EN
CALSCALE:GREGORIAN
METHOD:PUBLISH
BEGIN:VEVENT
UID:69e9ef28cbb32
DTSTAMP:20260423T100632Z
DTSTART:20191019T090000Z
DTEND:20191019T100000Z
LOCATION:
SUMMARY:A mi mÃ©heink | A mÃ©hek â€“ nÃ©zzÃ¼k meg Å‘ket kÃ¶zelebbrÅ‘l
DESCRIPTION:IsmeretterjesztÅ‘ elÅ‘adÃ¡s Ã©s kÃ©zmÅ±ves foglalkozÃ¡s ElÅ‘adÃ
 ³: MÃ¡k Csaba\,  mÃ©hÃ©sz A programon rÃ©sztvevÅ‘k nagyÃ­tÃ³ segÃ­tsÃ©gÃ©ve
 l a fejÃ¼k bÃºbjÃ¡tÃ³l a talpukig\,  azaz a csÃ¡pjuk hegyÃ©tÅ‘l a fullÃ¡nkj
 uk hegyÃ©ig aprÃ³lÃ©kosan megvizsgÃ¡lhatjÃ¡k a mÃ©heket. Vajon milyen szÃ­n
 e van egy mÃ©hecskÃ©nek? MiÃ©rt szÃ­nes a potrohuk? Vajon hogyan talÃ¡ljÃ¡k
  meg a virÃ¡gokat a legeldugottabb helyeken is?[..]\nhttps://momkult.hu/eve
 nts/a-mi-meheink-a-mehek-nezzuk-meg-oket-kozelebbrol/
URL:https://momkult.hu/events/a-mi-meheink-a-mehek-nezzuk-meg-oket-kozelebbrol/
END:VEVENT
END:VCALENDAR