BEGIN:VCALENDAR
VERSION:2.0
PRODID:-//eventon.com NONSGML v1.0//EN
CALSCALE:GREGORIAN
METHOD:PUBLISH
BEGIN:VEVENT
UID:69ea033701d7e
DTSTAMP:20260423T113207Z
DTSTART:20190929T090000Z
DTEND:20190929T100000Z
LOCATION:
SUMMARY:A mi mÃ©heink | MiÃ©rt jÃ³\,  ha ismerjÃ¼k a mÃ©heket
DESCRIPTION:IsmeretterjesztÅ‘ elÅ‘adÃ¡s Ã©s foglalkozÃ¡s ElÅ‘adÃ³k: Alfons 
 Wirth\,  mÃ©hÃ©sz Ã©s Radics Helga\,  pedagÃ³gus\,  oktatÃ¡sszervezÅ‘\,  az
  IskolamÃ©hÃ©szet kezdemÃ©nyezÃ©s munkatÃ¡rsai Azok a gyerekek\,  akik mÃ©h
 ek kÃ¶zelsÃ©gÃ©ben nÅ‘nek fel\,  lehetÅ‘sÃ©get kapnak arra\,  hogy megismer
 jÃ©k csodÃ¡latos vilÃ¡gukat. HalljÃ¡k zÃ¼mmÃ¶gÃ©sÃ¼ket\,  megtapintva Ã©rzÃ
 ©kelik a kaptÃ¡r melegÃ©t\,  Ã©rzik a mÃ©z\,  a lÃ©p illatÃ¡t\,  felismerik
 \,  ha egy mÃ©h ideges[..]\nhttps://momkult.hu/events/a-mi-meheink-miert-jo
 -ha-ismerjuk-a-meheket/
URL:https://momkult.hu/events/a-mi-meheink-miert-jo-ha-ismerjuk-a-meheket/
END:VEVENT
END:VCALENDAR