BEGIN:VCALENDAR
VERSION:2.0
PRODID:-//eventon.com NONSGML v1.0//EN
CALSCALE:GREGORIAN
METHOD:PUBLISH
BEGIN:VEVENT
UID:69ea19fc8cb92
DTSTAMP:20260423T130916Z
DTSTART:20190917T150000Z
DTEND:20190917T170000Z
LOCATION:
SUMMARY:English Corner
DESCRIPTION:Mi azÂ English CornerÂ cÃ©lja? â€“ az angol beszÃ©d javÃ­tÃ¡sa 
 â€“ a tÃ¡rsadalmi kapcsolatok erÅ‘sÃ­tÃ©se\,  kÃ¶zÃ¶ssÃ©gÃ©pÃ­tÃ©s Ã©s embe
 ri kapcsolatok erÅ‘sÃ­tÃ©se â€“ a tÃ©mÃ¡k kÃ¶zÃ¶s feldolgozÃ¡sa â€“ kÃ¶zÃ¶s
  cselekvÃ©s a csoporton belÃ¼l Az English Corner hetente tartott talÃ¡lkozÃ
 ³kbÃ³l Ã¡ll\, Â amelyek segÃ­tenek az Ãºjonnan Ã©rkezÅ‘knek a tÃ¡rsalgÃ¡si 
 angol nyelvtanulÃ¡sban Ã©s a magabiztos nyelvtudÃ¡s elsajÃ¡tÃ­tÃ¡sÃ¡ban. Mi
 nden[..]\nhttps://momkult.hu/events/english-corner/
URL:https://momkult.hu/events/english-corner/
END:VEVENT
END:VCALENDAR