BEGIN:VCALENDAR
VERSION:2.0
PRODID:-//eventon.com NONSGML v1.0//EN
CALSCALE:GREGORIAN
METHOD:PUBLISH
BEGIN:VEVENT
UID:69e9ec82d9100
DTSTAMP:20260423T095514Z
DTSTART:20191014T173000Z
DTEND:20191014T190000Z
LOCATION:
SUMMARY:Hello\,  WMN!
DESCRIPTION:BeszÃ©lgetÃ©s tabuk nÃ©lkÃ¼l az Ã¡ttÃ©tes mellrÃ¡k vilÃ¡gnapja 
 alkalmÃ¡bÃ³l. Ã‰let. Kult. FÃ©rfi. NÅ‘ â€“ Ã‰lÅ‘ben a szÃ­npadon! RendhagyÃ
 ³ beszÃ©lgetÅ‘s este a WMN alkotÃ³ival Ã©s meghÃ­vott vendÃ©geikkel. ModerÃ
 ¡tor: D. TÃ³th Kriszta â€žA rÃ¡kbetegsÃ©g mindannyiunk kÃ¶zÃ¶s Ã©lmÃ©nye. N
 incs olyan kÃ¶zÃ¶ssÃ©g\,  amelynek tagjai kÃ¶zÃ¼l ne Ã©rintene legalÃ¡bb eg
 yvalakit egy ismerÅ‘sÃ©n vagy csalÃ¡dtagjÃ¡n keresztÃ¼l. FÃ©lÃ¼nk[..]\nhttp
 s://momkult.hu/events/hello-wmn-5/
URL:https://momkult.hu/events/hello-wmn-5/
END:VEVENT
END:VCALENDAR