BEGIN:VCALENDAR
VERSION:2.0
PRODID:-//eventon.com NONSGML v1.0//EN
CALSCALE:GREGORIAN
METHOD:PUBLISH
BEGIN:VEVENT
UID:69e9d68210b3c
DTSTAMP:20260423T082122Z
DTSTART:20191030T190000Z
DTEND:20191030T210000Z
LOCATION:
SUMMARY:Fricska | RitmusAkrobatÃ¡k
DESCRIPTION:NÃ©ptÃ¡nc modern stÃ­lusban OktÃ³ber 30-Ã¡n a Fricska TÃ¡ncegyÃ
 ¼ttes megismÃ©tli nagy sikerÅ± Ã¶nÃ¡llÃ³ estjÃ©t. A mÅ±sorbanÂ  az Ã©rzelme
 k\,  hangulatok\,  ritmusok\,  egyedi lÃ¡tvÃ¡nyelemek kÃ¼lÃ¶nleges talÃ¡lko
 zÃ¡sa lesz lÃ¡thatÃ³. A magyar nÃ©pmÅ±vÃ©szet legvirtuÃ³zabb fÃ©rfitÃ¡ncait
 Ã³l kezdve a stepptÃ¡ncon Ã¡t a beatbox izgalmas hatÃ¡sai ragadjÃ¡k magukka
 l a nÃ©zÅ‘ket. A Roma Soul Ã©s a Fricska kÃ¶zÃ¶s tÃ¡nca[..]\nhttps://momkul
 t.hu/events/fricska-ritmusakrobatak/
URL:https://momkult.hu/events/fricska-ritmusakrobatak/
END:VEVENT
END:VCALENDAR