BEGIN:VCALENDAR
VERSION:2.0
PRODID:-//eventon.com NONSGML v1.0//EN
CALSCALE:GREGORIAN
METHOD:PUBLISH
BEGIN:VEVENT
UID:69e9d69ca5b52
DTSTAMP:20260423T082148Z
DTSTART:20191028T190000Z
DTEND:20191028T203000Z
LOCATION:
SUMMARY:Kepes András-est: Szikrázó mondatok
DESCRIPTION:„A szavaknak hatalmuk van; tudat alatt irányítanak minket. 
 Vannak mondatok\,  amelyek beégnek az emlékezetünkbe és meghatározzák
  gondolkodásunkat\,  értékrendünket. Vannak köztük felemelő\,  inspi
 ráló és mérgező szavak\,  származhatnak szülőktől\,  tanároktól\
 ,  barátoktól\,  sőt\,  ellenségektől is.” Kepes András azokról az
  emlékezetes mondatokról mesél\,  amelyek élete egy-egy szakaszán font
 osak voltak számára. Kepes András író\,  újságíró\, [..]\nhttps://
 momkult.hu/events/kepes-andras-est-szikrazo-mondatok/
URL:https://momkult.hu/events/kepes-andras-est-szikrazo-mondatok/
END:VEVENT
END:VCALENDAR