BEGIN:VCALENDAR
VERSION:2.0
PRODID:-//eventon.com NONSGML v1.0//EN
CALSCALE:GREGORIAN
METHOD:PUBLISH
BEGIN:VEVENT
UID:69e8dafddea93
DTSTAMP:20260422T142813Z
DTSTART:20200827T150000Z
DTEND:20200827T170000Z
LOCATION:
SUMMARY:Az illÃºziÃ³ mesterei - 2020
DESCRIPTION:Az elÅ‘adÃ¡s Ãºj idÅ‘pontban\,  2020. 08. 27-Ã©n (16:00) kerÃ¼l
  megrendezÃ©sre. (eredeti idÅ‘pont: 2020. 03. 28. 15:00\,  pÃ³telÅ‘adÃ¡s: 2
 020. 08.27. 16:00) New York\,  Peking\,  Dubai\,  Las Vegas\,  Monte Carlo 
 Ã©s TokiÃ³ utÃ¡n Ãºjra Budapesten Az illÃºziÃ³ mesterei! VilÃ¡ghÃ­rÅ± bÅ±vÃ
 ©szek Ã©s az orszÃ¡g legjobb illuzionistÃ¡i egyÃ¼tt\,  egy vadonatÃºj mÅ±so
 rban. Az elÅ‘zÅ‘ Ã©vekben[..]\nhttps://momkult.hu/events/az-illuzio-mestere
 i-2020-copy/
URL:https://momkult.hu/events/az-illuzio-mesterei-2020-copy/
END:VEVENT
END:VCALENDAR