BEGIN:VCALENDAR
VERSION:2.0
PRODID:-//eventon.com NONSGML v1.0//EN
CALSCALE:GREGORIAN
METHOD:PUBLISH
BEGIN:VEVENT
UID:69e50a735f63f
DTSTAMP:20260419T170139Z
DTSTART:20191219T190000Z
DTEND:20191219T210000Z
LOCATION:
SUMMARY:A sÃ¡ndorgyuri | KÃ©t Ã³ra a Kossuth-dÃ­jas SÃ¡ndor GyÃ¶rgy humoralistÃ¡val\,  a Nemzet MÅ±vÃ©szÃ©vel
DESCRIPTION:TrÃ©famisszionÃ¡rius? ViccvÃ¡tesz? MÃ³kanomÃ¡dolÃ³? KabarÃ©hitt
 Ã©rÃ­tÅ‘? A hitetlensÃ©g korÃ¡nak nevettetÅ‘je? RÃ¶hÃ¶gtetÅ‘ prÃ©dikÃ¡tor? 
 Nemcsak! Is! Az est elsÅ‘ felÃ©ben Kocsis Tibor\,  BalÃ¡zs BÃ©la-dÃ­jas fil
 mrendezÅ‘ 50 perces\,  A sÃ¡ndorgyuri cÃ­mÅ± Ã©letmÅ±portrÃ©jÃ¡t tekintheti
 k meg a nÃ©zÅ‘k\,  a most 80 Ã©ves Kossuth-dÃ­jas humoralistÃ¡rÃ³l\, Â  a N
 emzet MÅ±vÃ©szÃ©rÅ‘l. A rendezÅ‘ egybenÂ  az est hÃ¡zigazdÃ¡ja is. A portrÃ
 ©filmben megszÃ³lalÃ³Â [..]\nhttps://momkult.hu/events/a-sandorgyuri-ket-or
 a-a-kossuth-dijas-sandor-gyorgy-humoralistaval-a-nemzet-muveszevel-copy/
URL:https://momkult.hu/events/a-sandorgyuri-ket-ora-a-kossuth-dijas-sandor-gyorgy-humoralistaval-a-nemzet-muveszevel-copy/
END:VEVENT
END:VCALENDAR