BEGIN:VCALENDAR
VERSION:2.0
PRODID:-//eventon.com NONSGML v1.0//EN
CALSCALE:GREGORIAN
METHOD:PUBLISH
BEGIN:VEVENT
UID:69e9ef966c0ed
DTSTAMP:20260423T100822Z
DTSTART:20191018T183000Z
DTEND:20191018T210000Z
LOCATION:
SUMMARY:Gáspár Károly Trió | Hegyvidéki Smooth Jazz Klub
DESCRIPTION:English below Vendég: Kyle Gregory (USA) – trombita Gáspár
  Károly\,  zongorista\,  a hazai jazzélet meghatározó szereplője. Sokr
 étű zenei tevékenysége mellett a Karc FM szerkesztő-műsorvezetője\, 
  a JazzMa.hu kritikai rovatvezetője és a Magyar Jazz Szövetség vezetős
 égi tagja. Triójával saját kompozíciókat és jazzstandardeket egyará
 nt előadnak. Zenéjük friss és előremutató\,  romantikus és esztétiz
 áló\,  ugyanakkor[..]\nhttps://momkult.hu/events/gaspar-karoly-trio-hegyv
 ideki-smooth-jazz-klub/
URL:https://momkult.hu/events/gaspar-karoly-trio-hegyvideki-smooth-jazz-klub/
END:VEVENT
END:VCALENDAR