BEGIN:VCALENDAR
VERSION:2.0
PRODID:-//eventon.com NONSGML v1.0//EN
CALSCALE:GREGORIAN
METHOD:PUBLISH
BEGIN:VEVENT
UID:69e9ef7b18c2a
DTSTAMP:20260423T100755Z
DTSTART:20191013T093000Z
DTEND:20191013T103000Z
LOCATION:
SUMMARY:Hot Jazz Band gyerekkoncert | GyerekMOM
DESCRIPTION:A Hot Jazz Band zenÃ©je az idÅ‘k folyamÃ¡n sok kicsi kedvencÃ©v
 Ã© vÃ¡lt. Ez inspirÃ¡lta a zenekart\,  hogy MagyarorszÃ¡gon a jazz-zenekaro
 k kÃ¶zÃ¼l elsÅ‘kÃ©nt kÃ©szÃ­tsen gyerekeknek szÃ³lÃ³ koncertanyagot. Az 193
 0-as\,  â€˜40-es Ã©vekben is Ã­rÃ³dtak hasonlÃ³ szerzemÃ©nyek\,  de az egyÃ
 ¼ttes repertoÃ¡rjÃ¡ba Ã¡tirat Ã©s nÃ©pdal is kerÃ¼lt. A koncerten a gyereke
 k megismerkedhetnek a tÃ¼cskÃ¶k\, [..]\nhttps://momkult.hu/events/hot-jazz-
 band-gyerekkoncert-gyerekmom/
URL:https://momkult.hu/events/hot-jazz-band-gyerekkoncert-gyerekmom/
END:VEVENT
END:VCALENDAR