BEGIN:VCALENDAR
VERSION:2.0
PRODID:-//eventon.com NONSGML v1.0//EN
CALSCALE:GREGORIAN
METHOD:PUBLISH
BEGIN:VEVENT
UID:69ea04c007042
DTSTAMP:20260423T113840Z
DTSTART:20191009
DTEND:20191010
LOCATION:
SUMMARY:MOMkult GyerekszÃ­nhÃ¡z | Kippkopp bÃ©rlet Ã³vodÃ¡soknak
DESCRIPTION:A bÃ©rlet a kÃ¶vetkezÅ‘ elÅ‘adÃ¡sokat tartalmazza: 2019. oktÃ³b
 er 09. szerda 10:00 SÃ¼sÃ¼\,  a sÃ¡rkÃ¡ny | Miskolci Csodamalom BÃ¡bszÃ­nhÃ
 ¡zÂ  2019. november 12. kedd 10:00 PÃ¡skÃ¡ndi GÃ©za: Furfangos PÃ©ter\,  av
 agy az egÃ©r farkincÃ¡ja | Zenthe Ferenc SzÃ­nhÃ¡z 2019. december 05. csÃ¼t
 Ã¶rtÃ¶k 10:00 MikulÃ¡s kincseslÃ¡dÃ¡ja | PÃ³dium SzÃ­nhÃ¡z\nhttps://momkult
 .hu/events/momkult-gyerekszinhaz-kippkopp-berlet-ovodasoknak/
URL:https://momkult.hu/events/momkult-gyerekszinhaz-kippkopp-berlet-ovodasoknak/
END:VEVENT
END:VCALENDAR