BEGIN:VCALENDAR
VERSION:2.0
PRODID:-//eventon.com NONSGML v1.0//EN
CALSCALE:GREGORIAN
METHOD:PUBLISH
BEGIN:VEVENT
UID:69e9f0b9bbbf6
DTSTAMP:20260423T101313Z
DTSTART:20191013T170000Z
DTEND:20191013T183000Z
LOCATION:
SUMMARY:Hangverseny a Zene VilÃ¡gnapja alkalmÃ¡bÃ³l | Solti GyÃ¶rgy Zeneiskola
DESCRIPTION:KÃ¶zremÅ±kÃ¶dnek a Solti GyÃ¶rgy Zeneiskola kiemelkedÅ‘ tehetsÃ
 ©gÅ± nÃ¶vendÃ©kei\,  zenekarai\,  egyÃ¼ttesei\,  valamint a Divertimento Ka
 marazenekar. MÅ±sor Giuliani: SzerenÃ¡d Furulya-gitÃ¡r egyÃ¼ttes FelkÃ©szÃ­
 tÅ‘ tanÃ¡r Ã©s az Ã¡tiratokat kÃ©szÃ­tette: GhyczynÃ© FÃ¡y TÃ¼nde Chopin: g
 -moll Polonaise SzabÃ³ MÃ¡rton zongora tanÃ¡ra: BakonyinÃ© Gasparics MÃ¡ria
  FaurÃ©: Siciliano SzabÃ³ Luca fuvola tanÃ¡ra: SzabÃ³ MÃ³nika Grieg: KÃ¶ltÅ
 ‘i hangkÃ©pek op.3.[..]\nhttps://momkult.hu/events/hangverseny-a-zene-vilag
 napja-alkalmabol-solti-gyorgy-zeneiskola/
URL:https://momkult.hu/events/hangverseny-a-zene-vilagnapja-alkalmabol-solti-gyorgy-zeneiskola/
END:VEVENT
END:VCALENDAR