BEGIN:VCALENDAR
VERSION:2.0
PRODID:-//eventon.com NONSGML v1.0//EN
CALSCALE:GREGORIAN
METHOD:PUBLISH
BEGIN:VEVENT
UID:69ea02c5d72d8
DTSTAMP:20260423T113013Z
DTSTART:20191002
DTEND:20191003
LOCATION:
SUMMARY:Jazz-Funk-Soul zenészportrék
DESCRIPTION:Hagyomány\,  hogy a Jazzy-Fesztivállal egy időben\,  a MOMku
 lt-ban mutatja be új zenészportréit Sós Gábor\,  grafikusművész. Tov
 ábbi információk: www.sosdesign.hu https://www.youtube.com/watch?v=CTssh
 mMcDo4 Sós Gábor\,  grafikusművész kiállítása\nhttps://momkult.hu/ev
 ents/jazz-funk-soul-zeneszportrek/
URL:https://momkult.hu/events/jazz-funk-soul-zeneszportrek/
END:VEVENT
END:VCALENDAR