BEGIN:VCALENDAR
VERSION:2.0
PRODID:-//eventon.com NONSGML v1.0//EN
CALSCALE:GREGORIAN
METHOD:PUBLISH
BEGIN:VEVENT
UID:69e99bfc9bf3c
DTSTAMP:20260423T041140Z
DTSTART:20191208T180000Z
DTEND:20191208T200000Z
LOCATION:
SUMMARY:JaMese – Adventi kalendárium
DESCRIPTION:A JaMese idén karácsonyra Szabó T. Anna Adventi kalendárium
 át zenésíti meg. A verseskönyv tavaly jelent meg a Pagony Kiadó gondoz
 ásában. A lemezen többek között Palya Bea\,  Ferenczi György és a Da
 linda is közreműködik. Az énekesnő\,  Molnár Emese két évvel ezelő
 tt egy élővideóban énekelte el a versciklus Gyertya című darabját. A
 [..]\nhttps://momkult.hu/events/jamese-adventi-kalendarium/
URL:https://momkult.hu/events/jamese-adventi-kalendarium/
END:VEVENT
END:VCALENDAR