BEGIN:VCALENDAR
VERSION:2.0
PRODID:-//eventon.com NONSGML v1.0//EN
CALSCALE:GREGORIAN
METHOD:PUBLISH
BEGIN:VEVENT
UID:69e9c6391348d
DTSTAMP:20260423T071153Z
DTSTART:20191112T100000Z
DTEND:20191112T105000Z
LOCATION:
SUMMARY:Páskándi Géza: Furfangos Péter\,  avagy az egér farkincája | Zenthe Ferenc Színház | MOMkult Gyerekszínház
DESCRIPTION:Páskándi Géza: Furfangos Péter\,  avagy az egér farkincáj
 a zenés mesejáték Páskándi Géza népmesei motívumokból merítő mes
 ejátékának hőse Csavaró-Csutorás Péter\,  a vándor ezermester\,  ak
 i harcba száll a királylány kegyeiért. A mese végén a legény elnyeri
  méltó jutalmát: a Gyémántszép Királykisasszony kezét\,  vele együ
 tt pedig a Garasos Király fele királyságát. Kippkopp bérlet[..]\nhttps
 ://momkult.hu/events/paskandi-geza-furfangos-peter-avagy-az-eger-farkincaja
 -zenthe-ferenc-szinhaz-momkult-gyerekszinhaz/
URL:https://momkult.hu/events/paskandi-geza-furfangos-peter-avagy-az-eger-farkincaja-zenthe-ferenc-szinhaz-momkult-gyerekszinhaz/
END:VEVENT
END:VCALENDAR