BEGIN:VCALENDAR
VERSION:2.0
PRODID:-//eventon.com NONSGML v1.0//EN
CALSCALE:GREGORIAN
METHOD:PUBLISH
BEGIN:VEVENT
UID:69e9b21b4dc22
DTSTAMP:20260423T054603Z
DTSTART:20191124T103000Z
DTEND:20191124T111000Z
LOCATION:
SUMMARY:Máté Angi: Volt egyszer egy… | Aranyszamár Bábszínház | GyerekMOM
DESCRIPTION:Volt egyszer egy kislány\,  aki elindult a nagyvilágba\,  mer
 t az udvarán nyújtózkodó NAGY ÜRES mellett nem volt többé maradása.
  Útja során találkozott pöffeszkedő almákkal\,  rebbenő pillás bék
 ával\,  csupaláb hernyóval – és mindenkivel\,  akiket Máté Angi\,  
 író megálmodott. Miután mindenkitől gyűjtött valami emléket\,  elé
 rt egy olyan helyre\,  ahol repülőket hajtogatnak leveleikből[..]\nhttps
 ://momkult.hu/events/mate-angi-volt-egyszer-egy-aranyszamar-babszinhaz-gyer
 ekmom/
URL:https://momkult.hu/events/mate-angi-volt-egyszer-egy-aranyszamar-babszinhaz-gyerekmom/
END:VEVENT
END:VCALENDAR