BEGIN:VCALENDAR
VERSION:2.0
PRODID:-//eventon.com NONSGML v1.0//EN
CALSCALE:GREGORIAN
METHOD:PUBLISH
BEGIN:VEVENT
UID:69ea2f945f7fe
DTSTAMP:20260423T144124Z
DTSTART:20190819
DTEND:20190820
LOCATION:
SUMMARY:Kenyérlelke Fesztivál
DESCRIPTION:2019. augusztus 19-20-án a MOMkultban várja a látogatókat a
 z ötödik\,  hagyományosan kenyeret készítők találkozója\,  a Kenyé
 rlelke Fesztivál. A találkozó több okból kerül megrendezésre. Az els
 ő és legfontosabb\,  hogy a kenyér szerelmeseit összehozza egy alkalomm
 al évente\,  ahol megismerhetik egymást és kicserélhetik egymás közö
 tt tapasztalataikat. Fő cél\,  hogy visszakerüljön a köztudatba az[..]
 \nhttps://momkult.hu/events/kenyerlelke-fesztival/
URL:https://momkult.hu/events/kenyerlelke-fesztival/
END:VEVENT
END:VCALENDAR