BEGIN:VCALENDAR
VERSION:2.0
PRODID:-//eventon.com NONSGML v1.0//EN
CALSCALE:GREGORIAN
METHOD:PUBLISH
BEGIN:VEVENT
UID:69e5094ee75ab
DTSTAMP:20260419T165646Z
DTSTART:20191031T180000Z
DTEND:20191031T200000Z
LOCATION:
SUMMARY:Mi a te történeted? A történetmesélés ereje a munkahelyen és a magánéletben
DESCRIPTION:„A birtokodban van valami\,  ami senki másnak a világon. A 
 saját történeted.” A történetmesélést – noha varázslatos dolgok
 ra képes – rengeteg félreértés és félelem övezi\,  a munkahelyen 
 s a magánéletben egyaránt. Nehéz a megfelelő pillanatban a megfelelő
  történetet elmesélni\,  egy mondatba sűríteni valódi sikerekről és
  kudarcokról szóló történeteket. Györffy Kinga\, [..]\nhttps://momkul
 t.hu/events/mi-a-te-torteneted-a-tortenetmeseles-ereje-a-munkahelyen-es-a-m
 aganeletben/
URL:https://momkult.hu/events/mi-a-te-torteneted-a-tortenetmeseles-ereje-a-munkahelyen-es-a-maganeletben/
END:VEVENT
END:VCALENDAR