BEGIN:VCALENDAR
VERSION:2.0
PRODID:-//eventon.com NONSGML v1.0//EN
CALSCALE:GREGORIAN
METHOD:PUBLISH
BEGIN:VEVENT
UID:69e9ffbad4d06
DTSTAMP:20260423T111714Z
DTSTART:20190929T090000Z
DTEND:20190929T100000Z
LOCATION:
SUMMARY:Halász Judit-koncert | „Csiribiri”
DESCRIPTION:Halász Judit magyar költők verseit közel harminc éve ének
 li a hazai könnyűzene legjobbjainak megzenésítésében gyerekeknek\,  a
 kik a művésznőt\,  Magyarországon elsőként\,  a Mosoly-Rend lovagján
 ak választották. A Hegyvidéki Ősz (HŐSZ) nyitókoncertje\,  hagyomány
 osan – immár 16 éve –\,  az elmaradhatatlan Halász Judit-koncert. Je
 gyinformáció Álló\,  szabadtéri koncert. A belépés kerületi lakosok
  számára díjtalan\,  de[..]\nhttps://momkult.hu/events/halasz-judit-konc
 ert-csiribiri/
URL:https://momkult.hu/events/halasz-judit-koncert-csiribiri/
END:VEVENT
END:VCALENDAR