BEGIN:VCALENDAR
VERSION:2.0
PRODID:-//eventon.com NONSGML v1.0//EN
CALSCALE:GREGORIAN
METHOD:PUBLISH
BEGIN:VEVENT
UID:69e9b00372fda
DTSTAMP:20260423T053707Z
DTSTART:20191122T140000Z
DTEND:20191122T160000Z
LOCATION:
SUMMARY:Nyugdíjas Klub
DESCRIPTION:A havonta jelentkező program tartalmas kikapcsolódást kíná
 l a Hegyvidéken élő nyugdíjasok számára.\nhttps://momkult.hu/events/n
 yugdijas-klub-14/
URL:https://momkult.hu/events/nyugdijas-klub-14/
END:VEVENT
END:VCALENDAR