BEGIN:VCALENDAR
VERSION:2.0
PRODID:-//eventon.com NONSGML v1.0//EN
CALSCALE:GREGORIAN
METHOD:PUBLISH
BEGIN:VEVENT
UID:69ea1804635a8
DTSTAMP:20260423T130052Z
DTSTART:20190920T130000Z
DTEND:20190920T150000Z
LOCATION:
SUMMARY:Nyugdíjas Klub
DESCRIPTION:A havonta jelentkező program tartalmas kikapcsolódást kíná
 l a Hegyvidéken élő nyugdíjasok számára.\nhttps://momkult.hu/events/n
 yugdijas-klub-12/
URL:https://momkult.hu/events/nyugdijas-klub-12/
END:VEVENT
END:VCALENDAR