BEGIN:VCALENDAR
VERSION:2.0
PRODID:-//eventon.com NONSGML v1.0//EN
CALSCALE:GREGORIAN
METHOD:PUBLISH
BEGIN:VEVENT
UID:69ea2e89ca26b
DTSTAMP:20260423T143657Z
DTSTART:20190902
DTEND:20190903
LOCATION:
SUMMARY:Elképzelt valóság
DESCRIPTION:A toy photography-t kétféleképpen lehet csinálni: megszáll
 ottan vagy sehogy. Lampert Benedek a fotográfiával 2007-ben kezdett el fo
 glalkozni\,  a toy photography-val három éve. A „játékfotó” fiatal
  és különleges műfaj. Nem egyszerű tárgyfotókról van szó: a jelene
 tek egy díszletben vannak berendezve. A cél egy miniatűr világ megterem
 tése\,  ahol bármi megtörténhet. Ami utólagos[..]\nhttps://momkult.hu/
 events/elkepzelt-valosag/
URL:https://momkult.hu/events/elkepzelt-valosag/
END:VEVENT
END:VCALENDAR