BEGIN:VCALENDAR
VERSION:2.0
PRODID:-//eventon.com NONSGML v1.0//EN
CALSCALE:GREGORIAN
METHOD:PUBLISH
BEGIN:VEVENT
UID:69e9b03ae7e01
DTSTAMP:20260423T053802Z
DTSTART:20191121T190000Z
DTEND:20191121T203000Z
LOCATION:
SUMMARY:IrÃ¡nytÅ± a jÃ¶vÅ‘beÂ â€“Â Dr.Â HaideggerÂ TamÃ¡s elÅ‘adÃ¡sa
DESCRIPTION:A jÃ¶vÅ‘ mÃ¡r elkezdÅ‘dÃ¶ttâ€¦ ElkÃ©pzelhetÅ‘\,  hogy nÃ©hÃ¡ny 
 Ã©vtizeden belÃ¼l robotok mÅ±tenek\,  robotok szolgÃ¡ljÃ¡k fel az Ã©telt va
 gy rÃ©szt vesznek az idÅ‘sek gondozÃ¡sÃ¡ban. Jogosan merÃ¼l fel a kÃ©rdÃ©s\
 ,  hogy elveszik-e a robotok az emberek munkÃ¡jÃ¡t\,  illetve veszÃ©lyben v
 an-e az emberisÃ©g. Vajon felelÅ‘ssÃ©gteljes szÃ¼lÅ‘kÃ©nt hogyan lehet segÃ
 ­teni a gyermekek pÃ¡lyavÃ¡lasztÃ¡sÃ¡t? A kÃ©rdÃ©s[..]\nhttps://momkult.hu/
 events/iranytu-a-jovobe-dr-haidegger-tamas-eloadasa/
URL:https://momkult.hu/events/iranytu-a-jovobe-dr-haidegger-tamas-eloadasa/
END:VEVENT
END:VCALENDAR