BEGIN:VCALENDAR
VERSION:2.0
PRODID:-//eventon.com NONSGML v1.0//EN
CALSCALE:GREGORIAN
METHOD:PUBLISH
BEGIN:VEVENT
UID:69ea010c50fc2
DTSTAMP:20260423T112252Z
DTSTART:20191009T090000Z
DTEND:20191009T100000Z
LOCATION:
SUMMARY:Süsü\,  a sárkány | Miskolci Csodamalom Bábszínház | MOMkult Gyerekszínház
DESCRIPTION:A Süsü\,  a sárkány több generációnak vált legendás me
 séjévé. A történet mélyén az a fontos üzenet rejlik\,  hogy aki má
 s\,  nem biztos\,  hogy ellenséges\,  sőt\,  az sem biztos\,  hogy a más
  annyira más lenne. Író: Csukás István Zene: Bergendy István Bábterv
 ező: Lévai Sándor Díszlettervező: B. Juhász Ildikó Technikus: Polacs
 ek Zoltán[..]\nhttps://momkult.hu/events/susu-a-sarkany-miskolci-csodamalo
 m-babszinhaz-momkult-gyerekszinhaz/
URL:https://momkult.hu/events/susu-a-sarkany-miskolci-csodamalom-babszinhaz-momkult-gyerekszinhaz/
END:VEVENT
END:VCALENDAR