BEGIN:VCALENDAR
VERSION:2.0
PRODID:-//eventon.com NONSGML v1.0//EN
CALSCALE:GREGORIAN
METHOD:PUBLISH
BEGIN:VEVENT
UID:69ea2ec4c431c
DTSTAMP:20260423T143756Z
DTSTART:20190910T180000Z
DTEND:20190910T191500Z
LOCATION:
SUMMARY:LyukasÃ³ra Klub
DESCRIPTION:Â KalandozÃ¡s a holt kÃ¶ltÅ‘k vilÃ¡gÃ¡ban neves kÃ¶ltÅ‘k-Ã­rÃ³k
 -irodalomtÃ¶rtÃ©nÃ©szek tÃ¡rsasÃ¡gÃ¡ban A LyukasÃ³ra rÃ©sztvevÅ‘it a kÃ¶ltÃ
 ©szet\,  a versek Ã©s a halhatatlan magyar kÃ¶ltÅ‘k irÃ¡nti rajongÃ¡s hozta
  Ã¶ssze Ã©s tartja egyben lassan hÃ¡rom Ã©vtizede. A LyukasÃ³ra cÃ­mÅ±\,  l
 egendÃ¡s TV-mÅ±sor alapÃ­tÃ³i Ã©s szereplÅ‘i hÃ©t Ã©vvel ezelÅ‘tt\,  klubot
  alapÃ­tva\,  Ã©lÅ‘ LyukasÃ³rÃ¡kat rendeznek a MOM KulturÃ¡lis KÃ¶zpontban.
 [..]\nhttps://momkult.hu/events/lyukasora-klub-8/
URL:https://momkult.hu/events/lyukasora-klub-8/
END:VEVENT
END:VCALENDAR